BEGIN:VCALENDAR
VERSION:2.0
PRODID:-//Europelcs Luxury Concierge Services - ECPv5.11.0//NONSGML v1.0//EN
CALSCALE:GREGORIAN
METHOD:PUBLISH
X-WR-CALNAME:Europelcs Luxury Concierge Services
X-ORIGINAL-URL:https://europelcs.com
X-WR-CALDESC:Events for Europelcs Luxury Concierge Services
BEGIN:VTIMEZONE
TZID:Europe/Moscow
BEGIN:STANDARD
TZOFFSETFROM:+0300
TZOFFSETTO:+0300
TZNAME:MSK
DTSTART:20180101T000000
END:STANDARD
END:VTIMEZONE
BEGIN:VEVENT
DTSTART;TZID=Europe/Moscow:20180616T210000
DTEND;TZID=Europe/Moscow:20180617T013000
DTSTAMP:20260423T062946
CREATED:20180510T195613Z
LAST-MODIFIED:20180510T195613Z
UID:1389-1529182800-1529199000@europelcs.com
SUMMARY:TY SEGALL & The Freedom Band
DESCRIPTION:Σχεδόν ακριβώς 4 χρόνια μετά την τελευταία του εμφάνιση στην χώρα μας\, ο Ty Segall επιστρέφει για τρίτη φορά στην Αθήνα\, στην – όσο κλισέ και να ακούγεται – καλύτερη φάση της μέχρι τώρα καριέρας του. Εαν αναλογιστούμε ότι την τελευταία φορά που εμφανίστηκε εδώ\, σε μια ακόμα συνηθισμένη καταιγιστική ζωντανή εμφάνιση\, κατάφερε να “δεθεί”\, κυριολεκτικά\, με κολλητική ταινία\, με το κοινό του\, αναρωτιόμαστε τι θα δούμε αυτή την φορά;\nΚαι αυτό διότι\, αν και ο καταιγιστικός ρυθμός με τον οποίον βγάζει δίσκους δεν φαίνεται να χαλαρώνει καθόλου\, καθένας από αυτούς τους δίσκους έχει φανερώσει ακόμα μια πτυχή και ακόμα άλλες αναρίθμητες επιρροές ενός μουσικού που\, ενώ ξεκίνησε ως ο εκπρόσωπος του αμερικάνικου “νεο-γκαράζ” ήχου\, πλέον έχει ξεπεράσει τα στενά όρια αυτού του τίτλου.\nΑν τον Ιούνιο του 2014\, στην 2η εμφάνιση του στην Αθήνα\, ο Ty Segall είχε μόλις βγει από μια δύσκολη προσωπική περίοδο (θάνατος πατέρα\, αποξένωση από την μητέρα του\, κτλ) που σηματοδότησε με το Sleeper (2013\, Drag City)\, η συνέχεια αποδείχθηκε συναρπαστική.\nΣτο 2ο μισό του 2014\, ο Ty κυκλοφόρησε το Manipulator (2014\, Drag City)\, δίσκο που έγραφε επί 14 μήνες και που ήταν ο μέχρι τότε μακρύτερος του χρονικά. Η παραπάνω αφοσίωση στην ηχογράφηση και στην λεπτομέρεια ανέδειξε ένα γκαράζ διαμάντι\, έναν δίσκο που πάταγε γερά στο ροκ τον αρχών της δεκαετίας του 1970\, αλλά περασμένο μέσα από το πρίσμα της συγγραφικής ικανότητας και της ενέργειας ενός γκαράζ μουσικού του 21ου αιώνα. \nΤο 2016 έφερε το Emotional Mugger (2016\, Drag City) ως Ty Segall and The Muggers\, ένα είδος άρρωστης superband με τον – μόνιμο φίλο και συνεργάτη – Mikal Cronin\, τον King Tuff\, μέλη των Wand και άλλους\, και τον Ty να εμφανίζεται επί σκηνής φορώντας συχνά-πυκνά μια μάσκα μωρού και παίζοντας έναν χαρακτήρα ονόματι Sloppo. Η όλη θεατρικότητα και η βίαια\, σχεδόν επιτηδευμένα αντί-εμπορική μουσική\, θύμιζε κάπως την φιλοσοφία και το σοκ που προκάλεσαν συγκροτήματα σαν τους Devo στα τέλη της δεκαετίας του 1970.\nΗ επόμενη χρονιά φέρνει την συνεργασία με τον Steve Albini σε ρόλο παραγωγού και των έρωτα στο πρόσωπο της Denée\, συζύγου πλέον του Ty και μούσα του. ‘Έτσι\, ο νέος δίσκος με τον ανακυκλωμένο (ανανεωμένο τίτλο Ty Segall (2017\, Drag City – έχει βγει και άλλος δίσκος με τον ίδιο τίτλο το 2008 αλλά who cares?) περιέχει κομμάτια αφιερωμένα στην Denée (Orange Color Queen) αλλά και glam rock ύμνους\, δείγμα της σιωπηρής δουλειάς του Albini και της απόφασης του Ty να μπει στο στούντιο με ολόκληρη μπάντα\, την μετέπειτα ονομαζόμενη και Freedom Band.\nΚαι φτάνουμε αισίως στο 2018\, όπου ο Ty\, συνοδεία της Freedom Band\, κυκλοφορεί το Freedom’s Goblin (2018\, Drag City)\, έναν δίσκο που πραγματικά αψηφά την κατηγοριοποίηση: ίσως η πιο απλή εξήγηση είναι ότι πρόκειται για μια εξερεύνηση της ιστορίας του ροκ μέσα από τα μάτια ενός μοναδικού καλλιτέχνη\, που αισθάνεται πλέον τόσο άνετος ώστε πηδάει χωρίς κόπο από την disco (διασκευή του Every1’s A Winner των Hot Chocolate) στο grunge (Alta) και από το punk/funk (Freedom/Warm Hands) στον Νeil Young (And\, Goodnight).\nΑυτή την τελευταία έκφανση του Ty Segall\, συνοδεία της Freedom Band\, πρόκειται να δούμε στις 16 Ιουνίου στο Gagarin 205 : ενός μοναδικού καλλιτέχνη\, που παρόλο που εμπνέεται από τις στέρεες βάσεις της ιστορίας του ροκ\, επιδεικνύει την ευκολία μεταπήδησης μεταξύ στείρων και στεγανών “μουσικών ειδών” τόσο χαρακτηριστικής της κουλτούρας των millennials. Και αν κάποτε ο Ty Segall ήταν η κεφαλή του καλιφορνέζικου γκαράζ ροκ του 21ου αιώνα\, τώρα μιλάμε για κάτι άλλο: ίσως τον πιο ενδιαφέροντα ροκ μουσικό της τελευταίας δεκαετίας.
URL:https://europelcs.com/event/ty-segall-the-freedom-band/
LOCATION:Gagarin 205 Live Music Space\, Λιοσίων 205\, Athens\, 104 45\, Greece
CATEGORIES:Music
ATTACH;FMTTYPE=image/jpeg:https://europelcs.com/wp-content/uploads/2018/05/ty3.jpeg
END:VEVENT
BEGIN:VEVENT
DTSTART;TZID=Europe/Moscow:20180617T170000
DTEND;TZID=Europe/Moscow:20180617T233000
DTSTAMP:20260423T062946
CREATED:20180510T193714Z
LAST-MODIFIED:20180510T193714Z
UID:1371-1529254800-1529278200@europelcs.com
SUMMARY:Release Athens 2018 | Jamiroquai + Parov Stelar + more
DESCRIPTION:Θέλοντας να κρατήσουμε τις ισορροπίες απέναντι σε όλους τους φίλους του Release Athens\, σας ενημερώνουμε πως όσοι έχουν προμηθευτεί – ή θα προμηθευτούν μέχρι και τις 31/5 – εισιτήριο για οποιαδήποτε από τις δύο τελευταίες ημέρες του φεστιβάλ (1/6 με Thievery Corporation\, UB40\, Golan\, Angelika Dusk\, Magenta Flaws και 17/6 με Jamiroquai\, Parov Stelar\, Cigarettes After Sex\, Sillyboy’s Ghost Relatives\, Σtella)\, μπορούν με το ίδιο εισιτήριο\, απλά και μόνο με την επίδειξή του στην είσοδο\, να παρακολουθήσουν εντελώς δωρεάν την 1η ημέρα (31/5 με Richard Ashcroft\, Rag’n’Bone Man\, Kid Moxie\, Sworr.\, Lip Forensics). \n  \nΤο Release Athens επιστρέφει! Το μεγάλο φεστιβάλ της Αθήνας έρχεται για να ομορφύνει και πάλι τις καλοκαιρινές βραδιές μας\, με πολύ κέφι\, χορό και – πάνω απ’ όλα – υπέροχη μουσική από μερικά από τα μεγαλύτερα ονόματα της παγκόσμιας σκηνής. \nΣτις 31 Μαΐου\, 1 και 17 Ιουνίου\, στον πανέμορφο χώρο της Πλατείας Νερού\, θα έχουμε την ευκαιρία να δούμε συγκροτήματα και καλλιτέχνες που έχουν γράψει τη δική τους ξεχωριστή ιστορία στη σύγχρονη μουσική\, μαζί με μερικά από τα καλύτερα σχήματα της εγχώριας παραγωγής. \nJamiroquai\, Richard Ashcroft\, Thievery Corporation\, UB40 (feat. Ali Campbell\, Astro & Mickey)\, Rag’n’Bone Man\, Parov Stelar\, Cigarettes After Sex\, Golan\, Kid Moxie\, Sillyboy’s Ghost Relatives\, Σtella\, Angelika Dusk και αρκετοί ακόμα\, θα μας χαρίσουν μοναδικές στιγμές\, προσκαλώντας όλες και όλους στο μεγαλύτερο πάρτυ του φετινού καλοκαιριού! \nΑναλυτικά\, ανά ημέρα:\nΠέμπτη 31 Μαΐου / Richard Ashcroft (The Verve)\, Rag’n’Bone Man\, Kid Moxie\, Sworr. και Lip Forensics  \n  \nO Richard Ashcroft\, μία από τις μεγαλύτερες φωνές που έχουν… γεννηθεί στον πλανήτη\, έρχεται για 1η φορά στη χώρα μας για το Release Athens 2018!\nΣτις 31 Μαΐου θα απολαύσουμε τον ηγέτη των εμβληματικών The Verve\, μιας από τις κορυφαίες και πιο πετυχημένες βρετανικές μπάντες των 25 τελευταίων ετών.\nΘα ακούσουμε για πρώτη φορά ζωντανά το “Bitter Sweet Symphony“\, ένα τα καλύτερα τραγούδια που έχουν γραφτεί ποτέ\, μαζί με τα κλασικά “The Drugs Don‘t Work“\, “Lucky Man“\, “Sonnet“\, αλλά και μεγάλες στιγμές της solo καριέρας του\, όπως το πολυαγαπημένο και στη χώρα μας “A Song For The Lovers“. \n  \nO εκπληκτικός Rag‘n‘Bone Man\, ο άνθρωπος που με το “Human“ δημιούργησε το μεγαλύτερο hit των δύο τελευταίων ετών\, θα εμφανιστεί ως co-headliner\, για πρώτη φορά\, στη χώρα μας\, την πρώτη ημέρα του Release Athens 2018. Ένα από τα μεγαλύτερα νέα ονόματα του Βρετανικού αλλά και του παγκόσμιου στερεώματος\, που σαρώνει πωλήσεις και βραβεία\, αποτελώντας σημείο αναφοράς όχι μόνο για το παρόν αλλά και για το μέλλον της σύγχρονης pop σκηνής. \n  \nΜαζί του\, η υπέροχη Kid Moxie\, η electro-pop περσόνα που υπηρετεί το καλλιτεχνικό όραμα της Έλενας Χαρμπίλα\, που ήδη ανοίγει τα φτερά της για μία διεθνή καριέρα. \nΠαρασκευή 1 Ιουνίου / Thievery Corporation\, UB40 feat. Ali Campbell Astro Mickey\, Golan\, Angelika Dusk more tba \nΟι περσινοί θριαμβευτές επιστρέφουν! ΟιThievery Corporation\, ένα group που λατρεύει την Ελλάδα αλλά\, όπως φαίνεται σε κάθε τους επίσκεψη\, λατρεύεται και από αυτήν\, θα είναι μαζί μας. Στο Release Athens 2017 ξεσήκωσαν πάνω από 12.000 κόσμο (σε μία βροχερή ημέρα!) και τώρα έρχονται\, by… public demand\, με ακόμα περισσότερο κέφι και με ένα ολοκαίνουριο album! \nCo-headliners της βραδιάς\, οι πραγματικά σπουδαίοι UB40\, ένα από τα μεγαλύτερα και εμπορικότερα συγκροτήματα στην ιστορία της reggae\, αλλά και συνολικά της pop μουσικής\, με τον αυθεντικό τραγουδιστή τους Ali Campbell στα φωνητικά\, οι οποίοι επιστρέφουν μετά από πολλά χρόνια στα μέρη μας. Αν προσπαθούσαμε να απαριθμήσουμε τις επιτυχίες τους μάλλον θα έπρεπε να γεμίσουμε πολλές γραμμές κειμένου\, οπότε απλά θα υπενθυμίσουμε τρεις από τις μνημειώδεις διασκευές που έκαναν\, σημαδεύοντας ανεξίτηλα διαφορετικές εποχές των 80s και των 90s: “Red Red Wine”\, “I Got You Babe”\, “(I Can’t Help) Falling In Love With You”. Χρειάζεστε κάτι άλλο; \nΘυμηθείτε\, όμως\, και το όνομα της τετραμελούς μπάντας που θα συνοδέψει τα δύο τεράστια ονόματα αυτής της βραδιάς\, γιατί οι Ρουμάνοι Golan είναι ένα “κρυμμένο διαμάντι” της Ευρωπαϊκής electronica / house σκηνής που θα αποκαλυφθεί για πρώτη φορά μπροστά στο ελληνικό κοινό. \nΗ Angelika Dusk\, ήδη γνωστή και αγαπημένη στο εκλεκτικό κοινό της πατρίδας μας\, θα ανοίξει ιδανικά τη βραδιά\, έχοντας κυκλοφορήσει πριν λίγο καιρό το νέο της album\, “Beautiful Mess”\, σε συνεργασία με τον Βρετανό παραγωγό Rupert Christie (U2\, Coldplay\, Lou Reed). \nΠερισσότερα ονόματα\, σύντομα. \nΚυριακή 17 Ιουνίου / Jamiroquai\, ParovStelar\, Cigarettes After Sex\, Sillyboy’s Ghost Relatives\, Σtella \nΟι θρυλικοί\, πλέον\, Βρετανοί δυναμίτες που ακούν στο όνομα Jamiroquai\, με τον μοναδικό superstar Jay Kay σε φουλ φόρμα μετά την περσινή περιπέτεια\, θα είναι επιτέλους κοντά μας\, έχοντας ήδη εντυπωσιάσει στην επιστροφή τους με ένα πολύ καλό album (“Automaton”) και μια σειρά από εκπληκτικές sold out εμφανίσεις σε ολόκληρο τον κόσμο. Τα λόγια είναι περιττά για ένα από τα μεγαλύτερα και πιο επιτυχημένα groups της funk / dance / pop σκηνής των τελευταίων 25 χρόνων. Ένα από τα μεγαλύτερα απωθημένα του ελληνικού κοινού θα ικανοποιηθεί με τον πλέον εμφατικό και ξεσηκωτικό τρόπο\, σε μία εμφάνιση που δεν πρέπει να χάσει κανείς! \nCo-headliner της βραδιάς\, ο απόλυτος star του electro-swing και του downtempo\, ο (υπεραγαπημένος στη χώρα μας) Αυστριακός μουσικός και παραγωγός Parov Stelar που θα είναι και πάλι κοντά μας\, μετά από απουσία δύο χρόνων\, με νέο album. Κάθε ημέρα που περνάει γίνεται όλο και πιο διάσημος και αγαπητός σε ολόκληρο τον κόσμο\, κυρίως χάρη στη μοναδική του ικανότητα να διασκεδάζει το κοινό\, που στις live εμφανίσεις του χορεύει\, κυριολεκτικά\, από το πρώτο μέχρι το τελευταίο λεπτό της διάρκειάς τους. \nΗ παρουσία αυτών των δύο headliners δεν αφήνει πολλά περιθώρια επιλογής. Σας καλούν να προσέλθετε με την καλύτερη δυνατή διάθεση και με παπούτσια για χορό! \nΜαζί τους\, οι αισθαντικοί Αμερικανοί Cigarettes After Sex\, η μπάντα που τα τελευταία δύο χρόνια μας έχει προσφέρει μερικά από τα ομορφότερα μελωδικά τραγούδια που κυριαρχούν στο ελληνικό ραδιόφωνο (ιδίως το “Nothing’s Gonna Hurt You Baby”)\, ιδανική πινελιά μελωδικότητας και ρομαντισμού\, καθώς ο ήλιος θα δύει – και πριν επακολουθήσει το ξέφρενο πάρτυ που υπόσχονται οι δύο μεγάλοι stars της βραδιάς. \nΌμως\, δεν τελειώνουμε εδώ. Δύο από τα καλύτερα ονόματα της εγχώριας σκηνής θα δώσουν επίσης το παρών. Sillyboy’s Ghost Relatives και Σtella θα μας κρατήσουν συντροφιά από νωρίς σε αυτή την κυριακάτικη μουσική γιορτή. \nΌπως πάντα\, όλα αυτά θα πραγματοποιηθούν στην Πλατεία Νερού\, έναν πανέμορφο χώρο δίπλα στη θάλασσα\, με πολύ εύκολη και γρήγορη πρόσβαση από κάθε μέρος – και με κάθε μεταφορικό μέσο – της Αθήνας.
URL:https://europelcs.com/event/release-athens-2018-2-2/
LOCATION:Πλατεία Νερού\, Leof. Posidonos 2616\, Athens\, Kallithea\, 176 74\, Greece
CATEGORIES:Music
ATTACH;FMTTYPE=image/jpeg:https://europelcs.com/wp-content/uploads/2018/05/947x288px-General.jpg
END:VEVENT
END:VCALENDAR