BEGIN:VCALENDAR
VERSION:2.0
PRODID:-//Europelcs Luxury Concierge Services - ECPv5.11.0//NONSGML v1.0//EN
CALSCALE:GREGORIAN
METHOD:PUBLISH
X-WR-CALNAME:Europelcs Luxury Concierge Services
X-ORIGINAL-URL:https://europelcs.com
X-WR-CALDESC:Events for Europelcs Luxury Concierge Services
BEGIN:VTIMEZONE
TZID:Europe/Moscow
BEGIN:STANDARD
TZOFFSETFROM:+0300
TZOFFSETTO:+0300
TZNAME:MSK
DTSTART:20180101T000000
END:STANDARD
END:VTIMEZONE
BEGIN:VEVENT
DTSTART;TZID=Europe/Moscow:20180510T213000
DTEND;TZID=Europe/Moscow:20180510T230000
DTSTAMP:20260421T112022
CREATED:20180509T183400Z
LAST-MODIFIED:20180509T210836Z
UID:1199-1525987800-1525993200@europelcs.com
SUMMARY:Enrique Iglesias
DESCRIPTION:Ένας από τους πιο διάσημους καλλιτέχνες \nστo κόσμο\, για πρώτη φορά στην Αθήνα!!! \n10 Μαΐου 2018 \nΣτο Κλειστό Γήπεδο του Ο.Α.Κ.Α \nΣτο πλαίσιο της Ευρωπαϊκής του περιοδείας ο Enrique Iglesias θα επισκευθεί την Αθήνα στις 10 Μαΐου 2018. \nΟ Enrique Iglesias έρχεται επιτέλους στην Αθήνα…!!! Ο Λατίνος σούπερσταρ ήθελε παρά πολύ να πραγματοποιήσει μια συναυλία στη χώρα μας\, όμως μέχρι τώρα για διάφορους λόγους ήταν αδύνατον. Κατά τη διάρκεια του προγραμματισμού της φετινής ευρωπαϊκής του περιοδείας\, οι υπεύθυνοι της παραγωγής φρόντισαν από πολύ νωρίς να διασφαλίσουν μια στάση στην Ελληνική πρωτεύουσα. \nΟ ENRIQUE IGLESIAS είναι πιο γοητευτικός από ποτέ. Με την τρέχουσα επιτυχία του “Duele el Corazon” γράφει μουσική ιστορία\, ενώ με συνολικά 14 κομμάτια στο νούμερο ένα μεταξύ των οποίων τα  Súbeme la Radio\, Bailando και Hero\, ανέβηκε στην κορυφή του “Billboard Dance Club Songs”. Για τον επιτυχημένο σούπερ σταρ από την Ισπανία που ζει στο Μαϊάμι\, αυτό αποτελεί ένα ακόμη πολύ ξεχωριστό ρεκόρ. \nΟι ζωντανές του εμφανίσεις είναι θρυλικές: Δέκα γιορτινές παγκόσμιες περιοδείες\, με συναρπαστικές παρουσιάσεις σε μητροπόλεις όπως η Νέα Υόρκη\, η πόλη του Μεξικού\, η Μαδρίτη\, το Λονδίνο\, το Σύδνεϋ\, το Κάιρο\, η Ρίγα\, το Μινσκ\, το Ραμπάτ\, η Κωνσταντινούπολη και το Κέιπ Τάουν. \nΤα τελευταία πέντε χρόνια o ENRIQUE IGLESIAS\, έχει τραγουδήσει σε κατάμεστες αρένες 109 πόλεων σε όλο τον κόσμο\, με περισσότερα από δύο εκατομμύρια εισιτήρια\, φτάνοντας δύο φορές στην κορυφή του διαγράμματος “Billboard Hot Tours” με την περιοδεία “Euphoria”. \n  \nΑπό το 2014 με την μεγαλύτερη του περιοδεία “SEX AND LOVE”\, το παγκόσμιο αστέρι έχει μαγέψει το κοινό του από τη Λατινική Αμερική\, τη Νότια Αμερική\, την Ευρώπη\, τη Ρωσία και την Ασία ως στις ΗΠΑ. \n‘Έχουν πουληθεί 100 εκατομμύρια singles και άλμπουμ του παγκοσμίως. Έχει κερδίσει 197 βραβεία\, συμπεριλαμβανομένων των πολυάριθμων βραβείων Grammy\, των παγκόσμιων μουσικών βραβείων\, των αμερικανικών μουσικών βραβείων\, της Première Juventud και των βραβείων ASCAP. \nΟ Enrique Iglesias είναι σήμερα ένας από τους πιο επιτυχημένους καλλιτέχνες στο κόσμο. Οι συναυλίες του είναι γνωστές σε όλο τον πλανήτη για το «επίπεδο παραγωγής» που τις διακρίνει\, τόσο για τους μοναδικούς συνεργάτες του επί σκηνής στα φωνητικά και στα μουσικά όργανα\, όσο και για τα υψηλά στάνταρ των οπτικών εφέ που τις συνοδεύουν. \nΜετά από μεγάλη ζήτηση\, άνοιξαν επιπλέον θέσεις σε όλες τις ζώνες!!
URL:https://europelcs.com/event/enrique-iglesias/
LOCATION:Κλειστό Γήπεδο Ο.Α.Κ.Α\, Κλειστό Γήπεδο Ο.Α.Κ.Α\, Athens\, Greece
CATEGORIES:Music
ATTACH;FMTTYPE=image/jpeg:https://europelcs.com/wp-content/uploads/2018/05/iglesias_947x288.jpg
END:VEVENT
END:VCALENDAR